BEGIN:VCALENDAR
VERSION:2.0
PRODID:-//cdr-nebraska.org//NONSGML kigkonsult.se iCalcreator 2.30.10//
CALSCALE:GREGORIAN
METHOD:PUBLISH
UID:ad5955e8-d1c7-49a8-b0e4-bff32f7bfbd7
X-WR-CALDESC:
X-WR-RELCALID:bbb335b8389efcc8782477bac4e47cc4
X-WR-TIMEZONE:America/Chicago
BEGIN:VTIMEZONE
TZID:America/Chicago
BEGIN:STANDARD
TZNAME:CST
DTSTART:20221106T020000
TZOFFSETFROM:-0500
TZOFFSETTO:-0600
RDATE:20231105T020000
END:STANDARD
BEGIN:DAYLIGHT
TZNAME:CDT
DTSTART:20220313T020000
TZOFFSETFROM:-0600
TZOFFSETTO:-0500
RDATE:20230312T020000
RDATE:20240310T020000
END:DAYLIGHT
END:VTIMEZONE
BEGIN:VEVENT
UID:cdf846f4-9dcc-4571-9a74-1d9880d22426
DTSTAMP:20260426T000722Z
DESCRIPTION:
DTSTART;TZID=America/Chicago:20221226T080000
DTEND;TZID=America/Chicago:20230102T090000
LOCATION:
SUMMARY:Holiday Hours
END:VEVENT
END:VCALENDAR
