BEGIN:VCALENDAR
VERSION:2.0
PRODID:-//cdr-nebraska.org//NONSGML kigkonsult.se iCalcreator 2.30.10//
CALSCALE:GREGORIAN
METHOD:PUBLISH
UID:f385851a-7d45-4a81-b5ab-d150cf2aa91d
X-WR-CALDESC:Introduction to fundamentals of InDesign CC and focus on core 
 features.\nSCC Registration - GDMA-3697-CEF  Keyword:  InDesign
X-WR-RELCALID:b4138a049cd25d9aa140ba3830956a9e
X-WR-TIMEZONE:America/Chicago
BEGIN:VTIMEZONE
TZID:America/Chicago
BEGIN:STANDARD
TZNAME:CST
DTSTART:20211107T020000
TZOFFSETFROM:-0500
TZOFFSETTO:-0600
RDATE:20221106T020000
RDATE:20231105T020000
END:STANDARD
BEGIN:DAYLIGHT
TZNAME:CDT
DTSTART:20220313T020000
TZOFFSETFROM:-0600
TZOFFSETTO:-0500
RDATE:20230312T020000
RDATE:20240310T020000
END:DAYLIGHT
END:VTIMEZONE
BEGIN:VEVENT
UID:cb080c21-96b1-426f-93ab-e26530e7790b
DTSTAMP:20260425T224535Z
DESCRIPTION:Introduction to fundamentals of InDesign CC and focus on core f
 eatures.\nSCC Registration - GDMA-3697-CEF  Keyword:  InDesign
DTSTART;TZID=America/Chicago:20221105T083000
DTEND;TZID=America/Chicago:20221105T163000
LOCATION:Jack J. Huck CEC - Lincoln
SUMMARY:Reimbursement - SCC - Introduction to InDesign CC
END:VEVENT
END:VCALENDAR
