BEGIN:VCALENDAR
VERSION:2.0
PRODID:-//cdr-nebraska.org//NONSGML kigkonsult.se iCalcreator 2.30.10//
CALSCALE:GREGORIAN
METHOD:PUBLISH
UID:d76fd8ca-1051-4b72-b8f8-4450a688e52e
X-WR-CALDESC:A workshop to map out your dream business.  Register online on
  SCORE's website\, then\, CDR will reimburse you for your tuition!  On CDR
 's website\, go to:  What We Do/Business Consulting Program to fill out yo
 ur application.
X-WR-RELCALID:f241e309d469e1383dd48ec9193250f6
X-WR-TIMEZONE:America/Chicago
BEGIN:VTIMEZONE
TZID:America/Chicago
BEGIN:STANDARD
TZNAME:CST
DTSTART:20211107T020000
TZOFFSETFROM:-0500
TZOFFSETTO:-0600
RDATE:20221106T020000
RDATE:20231105T020000
END:STANDARD
BEGIN:DAYLIGHT
TZNAME:CDT
DTSTART:20220313T020000
TZOFFSETFROM:-0600
TZOFFSETTO:-0500
RDATE:20230312T020000
RDATE:20240310T020000
END:DAYLIGHT
END:VTIMEZONE
BEGIN:VEVENT
UID:8e033737-2e8f-44ae-9986-4781ba614500
DTSTAMP:20260425T204716Z
DESCRIPTION:A workshop to map out your dream business.  Register online on 
 SCORE's website\, then\, CDR will reimburse you for your tuition!  On CDR'
 s website\, go to:  What We Do/Business Consulting Program to fill out you
 r application.
DTSTART;TZID=America/Chicago:20221008T081500
DTEND;TZID=America/Chicago:20221008T163000
LOCATION:Turbine Flats
SUMMARY:SCORE WORKSHOP - What's Involved in Starting a New Business
END:VEVENT
END:VCALENDAR
