BEGIN:VCALENDAR
VERSION:2.0
PRODID:-//cdr-nebraska.org//NONSGML kigkonsult.se iCalcreator 2.30.10//
CALSCALE:GREGORIAN
METHOD:PUBLISH
UID:800084e2-cd62-4ab2-b2b6-711afd7c321e
X-WR-CALDESC:
X-WR-RELCALID:b3f9464840dd5e10008a74bc7aa28394
X-WR-TIMEZONE:America/Chicago
BEGIN:VTIMEZONE
TZID:America/Chicago
BEGIN:STANDARD
TZNAME:CST
DTSTART:20211107T020000
TZOFFSETFROM:-0500
TZOFFSETTO:-0600
RDATE:20221106T020000
RDATE:20231105T020000
END:STANDARD
BEGIN:DAYLIGHT
TZNAME:CDT
DTSTART:20220313T020000
TZOFFSETFROM:-0600
TZOFFSETTO:-0500
RDATE:20230312T020000
END:DAYLIGHT
END:VTIMEZONE
BEGIN:VEVENT
UID:f73aec72-e54f-426f-b6a7-bca8f2e26366
DTSTAMP:20260425T190510Z
DESCRIPTION:
DTSTART;TZID=America/Chicago:20220905T000000
DTEND;TZID=America/Chicago:20220905T235900
LOCATION:
SUMMARY:Labor Day - Office Closed
END:VEVENT
END:VCALENDAR
