BEGIN:VCALENDAR
VERSION:2.0
PRODID:-//cdr-nebraska.org//NONSGML kigkonsult.se iCalcreator 2.30.10//
CALSCALE:GREGORIAN
METHOD:PUBLISH
UID:d33729f3-0c0e-47dd-8533-9b2a555641f8
X-WR-CALDESC:
X-WR-RELCALID:9a013ed0203fb9290eb411306cf097c9
X-WR-TIMEZONE:America/Chicago
BEGIN:VTIMEZONE
TZID:America/Chicago
BEGIN:STANDARD
TZNAME:CST
DTSTART:20211107T020000
TZOFFSETFROM:-0500
TZOFFSETTO:-0600
RDATE:20221106T020000
END:STANDARD
BEGIN:DAYLIGHT
TZNAME:CDT
DTSTART:20210314T020000
TZOFFSETFROM:-0600
TZOFFSETTO:-0500
RDATE:20220313T020000
RDATE:20230312T020000
END:DAYLIGHT
END:VTIMEZONE
BEGIN:VEVENT
UID:b02f668d-212e-4329-aa70-97608a5f3926
DTSTAMP:20260426T015709Z
DESCRIPTION:
DTSTART;TZID=America/Chicago:20211125T000000
DTEND;TZID=America/Chicago:20211126T235900
LOCATION:
SUMMARY:Thanksgiving - Office Closed
END:VEVENT
END:VCALENDAR
